BEGIN:VCALENDAR
PRODID:-//AT Content Types//AT Event//EN
VERSION:1.0
BEGIN:VEVENT
DTSTART:20090508T150000Z
DTEND:20090508T163000Z
DCREATED:20070616T131527Z
UID:ATEvent-ad2657b1849c42dcbea4913bcbd7ff02
SEQUENCE:0
LAST-MODIFIED:20090406T185324Z
SUMMARY:Frauencafé Couragina
DESCRIPTION:Heute\: "Juchitan-eine matriarchale Stadt in Mexiko"
LOCATION:Café Aufbruch\, Hintere Schildstr. 18\, Do-Hörde
PRIORITY:3
TRANSP:0
END:VEVENT
END:VCALENDAR
