BEGIN:VCALENDAR
PRODID:-//AT Content Types//AT Event//EN
VERSION:2.0
METHOD:PUBLISH
BEGIN:VEVENT
DTSTAMP:20260421T112532Z
CREATED:20080511T195146Z
UID:ATEvent-8ad42c330081c4ec7b88d2e70cc22672
LAST-MODIFIED:20090502T193029Z
SUMMARY:Qigong-Kurs
DTSTART:20090505T170000Z
DTEND:20090505T183000Z
DESCRIPTION:8 Brokate
LOCATION:Café Aufbruch\, Hintere Schildstr. 18\, Do-Hörde
CATEGORIES:Qigongkurs
CLASS:PUBLIC
END:VEVENT
END:VCALENDAR
