BEGIN:VCALENDAR
PRODID:-//AT Content Types//AT Event//EN
VERSION:1.0
BEGIN:VEVENT
DTSTART:20090520T180000Z
DTEND:20090520T193000Z
DCREATED:20090212T210301Z
UID:ATEvent-a96f6b22522e3b4f82fd3312fe5b11b5
SEQUENCE:0
LAST-MODIFIED:20090406T192155Z
SUMMARY:Interner Treff
DESCRIPTION:Monatliches\, informelles Treffen für Mitarbeitende\, Fre
 undinnen und Freunde des Café Aufbruch.
LOCATION:Café Aufbruch\, Hintere Schildstr. 18\, Do-Hörde
PRIORITY:3
TRANSP:0
END:VEVENT
END:VCALENDAR
