BEGIN:VCALENDAR
PRODID:-//AT Content Types//AT Event//EN
VERSION:1.0
BEGIN:VEVENT
DTSTART:20090523T120000Z
DTEND:20090523T130000Z
DCREATED:20080511T192718Z
UID:ATEvent-f97c829cc8006eb07e560896dc647f92
SEQUENCE:0
LAST-MODIFIED:20090512T085718Z
SUMMARY:Matriarchaler Kulturkreis
DESCRIPTION:Heute\: Matriarchale Kunsttheorie-Die Theorie der Jahresze
 itenfeste
LOCATION:Café Aufbruch\, Hintere Schildstr. 18\, Do-Hörde
PRIORITY:3
TRANSP:0
END:VEVENT
END:VCALENDAR
