BEGIN:VCALENDAR
PRODID:-//AT Content Types//AT Event//EN
VERSION:2.0
METHOD:PUBLISH
BEGIN:VEVENT
DTSTAMP:20260421T112348Z
CREATED:20070806T105207Z
UID:ATEvent-0a91d77eaf888c1289ecc07c8d70fe3c
LAST-MODIFIED:20090405T194915Z
SUMMARY:Aufbruch-Treffen
DTSTART:20090418T150000Z
DTEND:20090418T180000Z
DESCRIPTION:Monatliches Treffen unserer Initiative „Aufbruch - ander
 s besser leben“. Austausch\, Informationen\, gemeinsam essen (tradit
 ionell bringt jede(r) etwas mit).
LOCATION:Café Aufbruch\, Hintere Schildstr. 18\, Dortmund-Hörde
CATEGORIES:Gesprächsrunde
CLASS:PUBLIC
END:VEVENT
END:VCALENDAR
