BEGIN:VCALENDAR
PRODID:-//AT Content Types//AT Event//EN
VERSION:2.0
METHOD:PUBLISH
BEGIN:VEVENT
DTSTAMP:20260421T112526Z
CREATED:20080511T195146Z
UID:ATEvent-14fc4cbfa0e85504d4c83da28aee7f3e
LAST-MODIFIED:20090406T190522Z
SUMMARY:Qigong-Kurs
DTSTART:20090421T170000Z
DTEND:20090421T183000Z
DESCRIPTION:8 Brokate
LOCATION:Café Aufbruch\, Hintere Schildstr. 18\, Do-Hörde
CATEGORIES:Qigongkurs
CLASS:PUBLIC
END:VEVENT
END:VCALENDAR
