BEGIN:VCALENDAR
PRODID:-//AT Content Types//AT Event//EN
VERSION:2.0
METHOD:PUBLISH
BEGIN:VEVENT
DTSTAMP:20260421T112414Z
CREATED:20090930T101957Z
UID:ATEvent-918a395495bc0ffe985bfe96c3997137
LAST-MODIFIED:20091202T212032Z
SUMMARY:Einfache Bastelarbeiten mit preiswerten Materialien
DTSTART:20091209T153000Z
DTEND:20091209T170000Z
DESCRIPTION:Für Erwachsene und Kinder ab 6 Jahren.
LOCATION:Café Aufbruch\, Hintere Schildstrasse 18\, Dortmund-Hörde
CATEGORIES:Kreativwerkstatt
CLASS:PUBLIC
END:VEVENT
END:VCALENDAR
