BEGIN:VCALENDAR
PRODID:-//AT Content Types//AT Event//EN
VERSION:1.0
BEGIN:VEVENT
DTSTART:20101116T180000Z
DTEND:20101116T193000Z
DCREATED:20080511T195146Z
UID:ATEvent-8c586ec009df208b078e8b30afee3049
SEQUENCE:0
LAST-MODIFIED:20101029T190851Z
SUMMARY:Qigong-Kurs
DESCRIPTION:Das Spiel der 5 Tiere
LOCATION:Café Aufbruch\, Hintere Schildstr. 18\, Do-Hörde
PRIORITY:3
TRANSP:0
END:VEVENT
END:VCALENDAR
