BEGIN:VCALENDAR
PRODID:-//AT Content Types//AT Event//EN
VERSION:2.0
METHOD:PUBLISH
BEGIN:VEVENT
DTSTAMP:20260421T112221Z
CREATED:20070425T104612Z
UID:ATEvent-ccf994bd78a84420da886fb8512c2b95
LAST-MODIFIED:20090930T095932Z
SUMMARY:Einführung in die Nutzung freier Software
DTSTART:20091028T190000Z
DTEND:20091028T203000Z
DESCRIPTION:(Neue) AnwenderInnen freier Software erlernen die wichtigs
 ten Zusammenhänge und Anwendungsprogramme für den Alltagsgebrauch ih
 res (befreiten\:) Computers
LOCATION:Café Aufbruch\, Hintere Schildstr. 18\, Do-Hörde
CATEGORIES:Computerkurs
CONTACT:cafe-aufbruch@dieseswortloeschen.free.de
CLASS:PUBLIC
END:VEVENT
END:VCALENDAR
