BEGIN:VCALENDAR
PRODID:-//AT Content Types//AT Event//EN
VERSION:2.0
METHOD:PUBLISH
BEGIN:VEVENT
DTSTAMP:20260421T112703Z
CREATED:20070616T131527Z
UID:ATEvent-ca27af72cad9d88b7752d7ed3429b334
LAST-MODIFIED:20170728T193102Z
SUMMARY:Frauencafé Couragina
DTSTART:20170811T140000Z
DTEND:20170811T160000Z
DESCRIPTION:Heute\: Jeweils eine Frau stellt ihr Lieblingsbuch vor.
LOCATION:Café Aufbruch\, Hintere Schildstr. 18\, Do-Hörde
CATEGORIES:Gesprächsrunde
CLASS:PUBLIC
END:VEVENT
END:VCALENDAR
