BEGIN:VCALENDAR
PRODID:-//AT Content Types//AT Event//EN
VERSION:1.0
BEGIN:VEVENT
DTSTART:20150220T150000Z
DTEND:20150220T170000Z
DCREATED:20070616T131527Z
UID:ATEvent-77142d529038a49e947da2f36726ca65
SEQUENCE:0
LAST-MODIFIED:20150130T113036Z
SUMMARY:Frauencafé Couragina
LOCATION:Café Aufbruch\, Hintere Schildstr. 18\, Do-Hörde
PRIORITY:3
TRANSP:0
END:VEVENT
END:VCALENDAR
