BEGIN:VCALENDAR
PRODID:-//AT Content Types//AT Event//EN
VERSION:1.0
BEGIN:VEVENT
DTSTART:20101214T180000Z
DTEND:20101214T193000Z
DCREATED:20080511T195146Z
UID:ATEvent-3087e6f75ff8153c3632806d55170e2c
SEQUENCE:0
LAST-MODIFIED:20101129T172429Z
SUMMARY:Qigong-Kurs
DESCRIPTION:Das Spiel der 5 Tiere
LOCATION:Café Aufbruch\, Hintere Schildstr. 18\, Do-Hörde
PRIORITY:3
TRANSP:0
END:VEVENT
END:VCALENDAR
