BEGIN:VCALENDAR
PRODID:-//AT Content Types//AT Event//EN
VERSION:1.0
BEGIN:VEVENT
DTSTART:20100412T173000Z
DTEND:20100412T190000Z
DCREATED:20080511T164320Z
UID:ATEvent-9e2b67db2ae226220d53369042c2e75d
SEQUENCE:0
LAST-MODIFIED:20100324T215349Z
SUMMARY:Gesprächskreis\: Grundlagen einer integralen Lebenspraxis
LOCATION:Café Aufbruch\, Hintere Schildstr. 18\, Do-Hörde
PRIORITY:3
TRANSP:0
END:VEVENT
END:VCALENDAR
