BEGIN:VCALENDAR
PRODID:-//AT Content Types//AT Event//EN
VERSION:1.0
BEGIN:VEVENT
DTSTART:20121128T160000Z
DTEND:20121128T173000Z
DCREATED:20080511T192718Z
UID:ATEvent-75cd75ad4fd88c4fbe838e9b000b1fbc
SEQUENCE:0
LAST-MODIFIED:20121025T152231Z
SUMMARY:Matriarchaler Kulturkreis
DESCRIPTION:Heute\: Die Natur zieht sich zurück - Die Menschen denken
  an ihre Ahninnen und Ahnen
LOCATION:Café Aufbruch\, Hintere Schildstr. 18\, Do-Hörde
PRIORITY:3
TRANSP:0
END:VEVENT
END:VCALENDAR
