BEGIN:VCALENDAR
PRODID:-//AT Content Types//AT Event//EN
VERSION:1.0
BEGIN:VEVENT
DTSTART:20100320T140000Z
DTEND:20100320T190000Z
DCREATED:20070806T105207Z
UID:ATEvent-1f80be73dcf76384ce3b50761b4115bb
SEQUENCE:0
LAST-MODIFIED:20100227T204837Z
SUMMARY:Aufbruch-Treffen und Frühlingsfest
DESCRIPTION:Monatliches Treffen unserer Initiative „Aufbruch - ander
 s besser leben“. Austausch\, Informationen...\nAnschließend feiern 
 wir die Tag- und Nachtgleiche auf dem Gartengrundstück am Marksbach.
LOCATION:Im Café Aufbruch und am Marksbach
PRIORITY:3
TRANSP:0
END:VEVENT
END:VCALENDAR
