BEGIN:VCALENDAR
PRODID:-//AT Content Types//AT Event//EN
VERSION:2.0
METHOD:PUBLISH
BEGIN:VEVENT
DTSTAMP:20260421T112717Z
CREATED:20080511T192718Z
UID:ATEvent-e9177ae7af9a3692fa704eabc4d2a590
LAST-MODIFIED:20140205T164649Z
SUMMARY:Matriarchaler Kulturkreis
DTSTART:20140222T123000Z
DTEND:20140222T140000Z
DESCRIPTION:Jahresthema\: Formen des Zusammenlebens
LOCATION:Café Aufbruch\, Hintere Schildstr. 18\, Do-Hörde
CATEGORIES:Gesprächsrunde
CLASS:PUBLIC
END:VEVENT
END:VCALENDAR
