BEGIN:VCALENDAR
PRODID:-//AT Content Types//AT Event//EN
VERSION:2.0
METHOD:PUBLISH
BEGIN:VEVENT
DTSTAMP:20260421T112652Z
CREATED:20080511T164320Z
UID:ATEvent-b6ef5f4d86fb72654287ea9d7290a9e6
LAST-MODIFIED:20091222T093134Z
SUMMARY:Gesprächskreis
DTSTART:20100111T183000Z
DTEND:20100111T200000Z
DESCRIPTION:Grundlagen einer integralen Lebenspraxis.
LOCATION:Café Aufbruch\, Hintere Schildstr. 18\, Do-Hörde
CATEGORIES:Gesprächsrunde
CLASS:PUBLIC
END:VEVENT
END:VCALENDAR
