BEGIN:VCALENDAR
PRODID:-//AT Content Types//AT Event//EN
VERSION:2.0
METHOD:PUBLISH
BEGIN:VEVENT
DTSTAMP:20260421T112716Z
CREATED:20090223T212516Z
UID:ATEvent-a0b8ddafa07083e68e07de6872b8d786
LAST-MODIFIED:20091202T221234Z
SUMMARY:Nadel und Faden im Café
DTSTART:20091208T150000Z
DTEND:20091208T163000Z
DESCRIPTION:Es wird gestrickt\, gesponnen und erzählt.
LOCATION:Café Aufbruch\, Hintere Schildstr. 18\, Do-Hörde
CATEGORIES:Kreativwerkstatt
CLASS:PUBLIC
END:VEVENT
END:VCALENDAR
