BEGIN:VCALENDAR
PRODID:-//AT Content Types//AT Event//EN
VERSION:2.0
METHOD:PUBLISH
BEGIN:VEVENT
DTSTAMP:20260421T112652Z
CREATED:20080511T192718Z
UID:ATEvent-3a89b3f8d0bf3bc94ffe151eef81a921
LAST-MODIFIED:20100126T103407Z
SUMMARY:Matriarchaler Kulturkreis
DTSTART:20100220T123000Z
DTEND:20100220T140000Z
DESCRIPTION:Heute\: Labyrinthe in Theorie und Praxis
LOCATION:Café Aufbruch\, Hintere Schildstr. 18\, Do-Hörde
CATEGORIES:Gesprächsrunde
CLASS:PUBLIC
END:VEVENT
END:VCALENDAR
