BEGIN:VCALENDAR
PRODID:-//AT Content Types//AT Event//EN
VERSION:2.0
METHOD:PUBLISH
BEGIN:VEVENT
DTSTAMP:20260419T142443Z
CREATED:20070806T105207Z
UID:ATEvent-9ecc9b6c04c5882ade7ac2a179078511
LAST-MODIFIED:20101029T193456Z
SUMMARY:Aufbruch-Treffen\: Wir zeigen den Film â€žEin Leben unter Palmenâ€œ  Ã¼ber das Ã–kodorf Sieben Linden
DTSTART:20101120T160000Z
DTEND:20101120T190000Z
DESCRIPTION:Der Film wird ca. 17. 30 Uhr beginnen\, danach ist Zeit fÃ
 ¼r GesprÃ¤che\, Fragen und Diskussionen Ã¼ber den Film und fÃ¼r den al
 lgemeinen Austausch Ã¼ber Aufbruch-Themen.
LOCATION:CafÃ© Aufbruch\, Hintere Schildstr. 18\, Dortmund-HÃ¶rde
CATEGORIES:Film mit Diskussion
URL:http://www.anders-besser-leben.de
CLASS:PUBLIC
END:VEVENT
END:VCALENDAR
