BEGIN:VCALENDAR
PRODID:-//AT Content Types//AT Event//EN
VERSION:2.0
METHOD:PUBLISH
BEGIN:VEVENT
DTSTAMP:20260421T112657Z
CREATED:20070616T131527Z
UID:ATEvent-6a7c9622d6f5afb817efa7f3a493ccff
LAST-MODIFIED:20091202T215554Z
SUMMARY:Frauencafé Couragina
DTSTART:20091211T160000Z
DTEND:20091211T173000Z
DESCRIPTION:Heute\: Jahresausklang
LOCATION:Café Aufbruch\, Hintere Schildstr. 18\, Do-Hörde
CATEGORIES:Gesprächsrunde
CLASS:PUBLIC
END:VEVENT
END:VCALENDAR
