BEGIN:VCALENDAR
PRODID:-//AT Content Types//AT Event//EN
VERSION:1.0
BEGIN:VEVENT
DTSTART:20140904T170000Z
DTEND:20140904T190000Z
DCREATED:20070930T151523Z
UID:ATEvent-303d0dd7b048bac183fc0e7c519aba00
SEQUENCE:0
LAST-MODIFIED:20140829T181251Z
SUMMARY:Philosophenlounge
DESCRIPTION:Treffen rund um Lebenskunst und Philosophie mit jeweils we
 chselnden interessanten Themenschwerpunkten.
LOCATION:Café Aufbruch\, Hintere Schildstr. 18\, Do-Hörde
PRIORITY:3
TRANSP:0
END:VEVENT
END:VCALENDAR
