BEGIN:VCALENDAR
PRODID:-//AT Content Types//AT Event//EN
VERSION:1.0
BEGIN:VEVENT
DTSTART:20080820T170000Z
DTEND:20080820T193000Z
DCREATED:20080806T193657Z
UID:ATEvent-58b5f5902cc31bb7156be99fdefbd324
SEQUENCE:0
LAST-MODIFIED:20090123T152037Z
SUMMARY:Filmvorführung\: "China Blue"
DESCRIPTION:in Zusammenarbeit mit dem Info-Zentrum 3. Welt.
LOCATION:Café Aufbruch\, Hintere Schildstr. 18\, Dortmund-Hörde
PRIORITY:3
TRANSP:0
END:VEVENT
END:VCALENDAR
