BEGIN:VCALENDAR
PRODID:-//AT Content Types//AT Event//EN
VERSION:2.0
METHOD:PUBLISH
BEGIN:VEVENT
DTSTAMP:20260421T112058Z
CREATED:20070224T142833Z
UID:ATEvent-248a949a906b16abca8eedca789c2a43
LAST-MODIFIED:20090123T152017Z
SUMMARY:Treffen der Café-Gruppe
DTSTART:20070306T170000Z
DTEND:20070306T190000Z
DESCRIPTION:Monatliches Treffen der im Café-Aufbruch-Betrieb Aktiven 
 - zur Klärung organisatorischer Fragen. Wir betreiben das Café ehren
 amtlich und können noch tatkräftige Unterstützung gebrauchen. Wer m
 itmachen möchte ist herzlich eingeladen.
LOCATION:Café Aufbruch\, Hintere Schildstr. 18\, Do-Hörde
CATEGORIES:Gesprächsrunde
CLASS:PUBLIC
END:VEVENT
END:VCALENDAR
