BEGIN:VCALENDAR
PRODID:-//AT Content Types//AT Event//EN
VERSION:2.0
METHOD:PUBLISH
BEGIN:VEVENT
DTSTAMP:20260421T112223Z
CREATED:20140205T165836Z
UID:ATEvent-af50166c0db3962b62a007b6ae843b16
LAST-MODIFIED:20140205T165844Z
SUMMARY:Biografiearbeit
DTSTART:20140220T180000Z
DTEND:20140220T193000Z
DESCRIPTION:Haben Sie den Wunsch\, die eigene Biografie neu zu entdeck
 en\, besser zu verstehen\, aufzuschreiben? \nMit gezielten Übungen ze
 igen Doris Krooß und Beate Ledig\, wie Sie Ihre eigene Geschichte wac
 hrufen.
LOCATION:Café Aufbruch\, Hintere Schildstr. 18\, Dortmund Hörde
CATEGORIES:Gesprächsrunde
CLASS:PUBLIC
END:VEVENT
END:VCALENDAR
