BEGIN:VCALENDAR
PRODID:-//AT Content Types//AT Event//EN
VERSION:2.0
METHOD:PUBLISH
BEGIN:VEVENT
DTSTAMP:20260419T115509Z
CREATED:20121127T214632Z
UID:ATEvent-f7e3169675567f7494edecd86134713c
LAST-MODIFIED:20121127T214728Z
SUMMARY:Autorenlesung\: "Wie es früher war"
DTSTART:20121207T163000Z
DTEND:20121207T180000Z
DESCRIPTION:Emmi Beck liest Geschichten vor aus ihrem Roman "Als Kind 
 im Revier"
LOCATION:Café Aufbruch\, Hintere Schildstr. 18\, Dortmund Hörde
CATEGORIES:Lesung
URL:http://www.pomaska-brand-verlag.de/index.php?id=323
CLASS:PUBLIC
END:VEVENT
END:VCALENDAR
