BEGIN:VCALENDAR
PRODID:-//AT Content Types//AT Event//EN
VERSION:2.0
METHOD:PUBLISH
BEGIN:VEVENT
DTSTAMP:20260421T083042Z
CREATED:20121103T171237Z
UID:ATEvent-e2b9b10564b21b1ba3afdecfae58d5bc
LAST-MODIFIED:20121103T171706Z
SUMMARY:Autorenlesung\: Klaus Goehrke liest aus "Yvans Schatten. Hundstage auf Korsika"
DTSTART:20121214T183000Z
DTEND:20121214T203000Z
DESCRIPTION:Wer dem ungemütlichen und kalten Dezemberwetter zumindest
  gerne in Gedanken entfliehen möchte\, kann sich von dem Autor Klaus 
 Goehrke literarisch auf die schöne Mittelmeerinsel Korsika mitnehmen 
 lassen.
LOCATION:Café Aufbruch\, Hintere Schildstraße 18\, Dortmund Hörde
CATEGORIES:Lesung
URL:http://www.ventura-verlag.de/html/yvans_schatten.html
CLASS:PUBLIC
END:VEVENT
END:VCALENDAR
