BEGIN:VCALENDAR
PRODID:-//AT Content Types//AT Event//EN
VERSION:1.0
BEGIN:VEVENT
DTSTART:20100710T130000Z
DTEND:20100710T143000Z
DCREATED:20100702T142752Z
UID:ATEvent-e07b046d190f9be62eba25f35cdcd9b9
SEQUENCE:0
LAST-MODIFIED:20100702T142803Z
SUMMARY:Ausstellungseröffnung\: Venetianische Augenblicke
DESCRIPTION:Eine Ausstellung mit Fotos von Marie-Lisa Noltenius
LOCATION:Café Aufbruch\, Hintere Schildstr. 18\, Dortmund Hörde
PRIORITY:3
TRANSP:0
END:VEVENT
END:VCALENDAR
