BEGIN:VCALENDAR
PRODID:-//AT Content Types//AT Event//EN
VERSION:1.0
BEGIN:VEVENT
DTSTART:20110506T163000Z
DTEND:20110506T173000Z
DCREATED:20110501T161331Z
UID:ATEvent-578cc9c00b5e50fbbfb32d01a40ceed6
SEQUENCE:0
LAST-MODIFIED:20110501T161419Z
SUMMARY:Ausstellungseröffnung\: Uluru - ein heiliger Ort der Aborigines - Fotografien aus Australien von Emmi Beck
DESCRIPTION:Auf ihrem persönlichen Traumpfad entstanden 1997 beeindru
 ckende Detailbilder dieses Naturheiligtums des Ayers Rock.
LOCATION:Café Aufbruch\, Hintere Schildstr. 18
PRIORITY:3
TRANSP:0
END:VEVENT
END:VCALENDAR
