BEGIN:VCALENDAR
PRODID:-//AT Content Types//AT Event//EN
VERSION:1.0
BEGIN:VEVENT
DTSTART:20140411T160000Z
DTEND:20140411T170000Z
DCREATED:20140407T100130Z
UID:ATEvent-50ab22ec11a0d28bae2056fec7496aae
SEQUENCE:0
LAST-MODIFIED:20140407T100144Z
SUMMARY:Ausstellungseröffnung -  Menschenbilder 2014
DESCRIPTION:l'ars Aquarelle und andere Techniken von Lars-U. Schubert
LOCATION:Café Aufbruch\, Hintere Schildstraße 18\, Dortmund Hörde
PRIORITY:3
TRANSP:0
END:VEVENT
END:VCALENDAR
