BEGIN:VCALENDAR
PRODID:-//AT Content Types//AT Event//EN
VERSION:1.0
BEGIN:VEVENT
DTSTART:20160806T170000Z
DTEND:20160806T183000Z
DCREATED:20160801T135019Z
UID:ATEvent-b23e6d4c4691cd51d59988303d09854b
SEQUENCE:0
LAST-MODIFIED:20160801T135056Z
SUMMARY:Ausstellungseröffnung - "Malen in Südfrankreich"
DESCRIPTION:Gabriele Glöckle\, Astrid Hallecker\, Doris Steenfatt und
  Inge Zeller stellen ihre Bilder aus\, die sie auf einer Malexkursion 
 in Südfrankreich erstellt haben.
LOCATION:Café Aufbruch\, Hintere Schildstraße 18\, Dortmund Hörde
PRIORITY:3
TRANSP:0
END:VEVENT
END:VCALENDAR
