BEGIN:VCALENDAR
PRODID:-//AT Content Types//AT Event//EN
VERSION:1.0
BEGIN:VEVENT
DTSTART:20120217T180000Z
DTEND:20120217T190000Z
DCREATED:20120125T105444Z
UID:ATEvent-e278e83abd521014dfec306a0b4349d2
SEQUENCE:0
LAST-MODIFIED:20120125T105451Z
SUMMARY:Ausstellungseröffnung\: Gisela Herzog - Nachtgeschichten - Zeichnungen
DESCRIPTION:Die Ausstellung bleibt bis zum 30. 03. 2012 im Café Aufbr
 uch.
LOCATION:Café Aufbruch\, Hintere Schildstr. 18\, Dortmund-Hörde
PRIORITY:3
TRANSP:0
END:VEVENT
END:VCALENDAR
