BEGIN:VCALENDAR
PRODID:-//AT Content Types//AT Event//EN
VERSION:2.0
METHOD:PUBLISH
BEGIN:VEVENT
DTSTAMP:20260421T112702Z
CREATED:20110324T223904Z
UID:ATEvent-4eace2de0f9b928509d4c95c4c3b6131
LAST-MODIFIED:20110324T224011Z
SUMMARY:Ausstellungseröffnung - "Eine Klasse macht Druck"
DTSTART:20110331T163000Z
DTEND:20110331T173000Z
DESCRIPTION:Schülerinnen und Schüler der Klasse 11 der Martin-Luther
 -King-Gesamtschule Dortmund stellen Linolschnitte aus.
LOCATION:Café Aufbruch\, Hintere Schildstr. 18\, Dortmund-Hörde
CATEGORIES:Ausstellung
CLASS:PUBLIC
END:VEVENT
END:VCALENDAR
