BEGIN:VCALENDAR
PRODID:-//AT Content Types//AT Event//EN
VERSION:1.0
BEGIN:VEVENT
DTSTART:20140120T170000Z
DTEND:20140120T180000Z
DCREATED:20140116T113936Z
UID:ATEvent-63d5511b2e7a41a8791f3b424bc7448a
SEQUENCE:0
LAST-MODIFIED:20140116T120828Z
SUMMARY:Ausstellungseröffnung\: "Bilder zum Aufbruch"
DESCRIPTION:Eine Ausstellung mit Fotos von Gästen und Freund/innen de
 s Café Aufbruch zum Thema „Aufbruch“ und „Menschen im Café Auf
 bruch“.\nEmmi Beck wird ein Videoclip zeigen\, über das Viertel um 
 den Neumarkt in Hörde\, das in Zusammenarbeit mit Ulrike Korbach ents
 tanden ist.
LOCATION:Café Aufbruch\, Hintere Schildstr. 18\, Dortmund Hörde
PRIORITY:3
TRANSP:0
END:VEVENT
END:VCALENDAR
