BEGIN:VCALENDAR
PRODID:-//AT Content Types//AT Event//EN
VERSION:2.0
METHOD:PUBLISH
BEGIN:VEVENT
DTSTAMP:20260421T112651Z
CREATED:20101228T184250Z
UID:ATEvent-96681589974a38231b926cb14884635d
LAST-MODIFIED:20110126T211001Z
SUMMARY:Ausstellungseröffnung\:  „Gesichter Chinas“
DTSTART:20110128T173000Z
DTEND:20110128T183000Z
DESCRIPTION:Reisefotografien von Ursula Emmerich
LOCATION:Café Aufbruch\, Hintere Schildstr. 18
CATEGORIES:Ausstellung
CLASS:PUBLIC
END:VEVENT
END:VCALENDAR
