BEGIN:VCALENDAR
PRODID:-//AT Content Types//AT Event//EN
VERSION:1.0
BEGIN:VEVENT
DTSTART:20160219T173000Z
DTEND:20160219T190000Z
DCREATED:20160201T211456Z
UID:ATEvent-a53ac71d5b80302527b05a7b9c737fd3
SEQUENCE:0
LAST-MODIFIED:20160201T211546Z
SUMMARY:Ausstellungseröffnung „faces“ - Menschen unserer Zeit
DESCRIPTION:Portraits gemalt in Acryl.\nAusstellung des Grundkurses Ku
 nst Jg. 13 \nder Martin Luther King Gesamtschule\nDortmund Dorstfeld
LOCATION:Café Aufbruch\, Hintere Schildstraße 18\, Dortmund Hörde
PRIORITY:3
TRANSP:0
END:VEVENT
END:VCALENDAR
