BEGIN:VCALENDAR
PRODID:-//AT Content Types//AT Event//EN
VERSION:2.0
METHOD:PUBLISH
BEGIN:VEVENT
DTSTAMP:20260421T112058Z
CREATED:20070616T132130Z
UID:ATEvent-34bdc293587ca521524ed3a34d4232de
LAST-MODIFIED:20090123T152024Z
SUMMARY:Aufbruch-Treffen
DTSTART:20070721T130000Z
DTEND:20070721T160000Z
DESCRIPTION:Monatliches Treffen der Initiative "Aufbruch - Anders Bess
 er Leben". Austausch\, Informationen\, gemeinsam Essen (traditionell b
 ringt jede/r etwas mit).
LOCATION:Café Aufbruch
CLASS:PUBLIC
END:VEVENT
END:VCALENDAR
