BEGIN:VCALENDAR
PRODID:-//AT Content Types//AT Event//EN
VERSION:1.0
BEGIN:VEVENT
DTSTART:20090809T100000Z
DTEND:20090809T130000Z
DCREATED:20090723T173633Z
UID:ATEvent-c67545017a15403d00018db9d9d9b1f9
SEQUENCE:0
LAST-MODIFIED:20090723T173656Z
SUMMARY:Auf dem Fahrrad von Hörde nach Dortmund
DESCRIPTION:Auf stillgelegten Eisenbahntrassen fahren wir vom Cafe Auf
 bruch\, weitgehend unabhängig vom Autoverkehr\, \nin die Dortmunder I
 nnenstadt.\nAnschließend Picknick im Westpark (jeder nimmt etwas zu E
 ssen und zu Trinken mit)\, \nRückfahrt durch Kreuzviertel und Messege
 lände.\nLeitung\: Daniel Rehbein
LOCATION:Start am Café Aufbruch
PRIORITY:3
TRANSP:0
END:VEVENT
END:VCALENDAR
