BEGIN:VCALENDAR
PRODID:-//AT Content Types//AT Event//EN
VERSION:1.0
BEGIN:VEVENT
DTSTART:20110402T130000Z
DTEND:20110402T160000Z
DCREATED:20110324T213141Z
UID:ATEvent-71e628ad108cfb38dc3983c2f0bacbc3
SEQUENCE:0
LAST-MODIFIED:20110401T070108Z
SUMMARY:Atomausstieg selber machen - Wenn nicht jetzt\, wann dann? Stromwechselangebot
DESCRIPTION:Greenpeace informiert über verschiedene Ökostromanbieter
 .
LOCATION:Café Aufbruch\, Hintere Schildstr. 18\, Dortmund-Hörde
PRIORITY:3
TRANSP:0
END:VEVENT
END:VCALENDAR
