BEGIN:VCALENDAR
PRODID:-//AT Content Types//AT Event//EN
VERSION:1.0
BEGIN:VEVENT
DTSTART:20070308T180000Z
DTEND:20070308T193000Z
DCREATED:20070224T140926Z
UID:ATEvent-4058d31f2ff7283cb125b71b2d5f8597
SEQUENCE:0
LAST-MODIFIED:20090123T152017Z
SUMMARY:Atemtherapie
DESCRIPTION:Aufatmen - Durchatmen\nEinführung in die Atemtherapie nac
 h Ilse Middendorf
LOCATION:Café Aufbruch\, Hintere Schildstr. 18\, Do-Hörde
PRIORITY:3
TRANSP:0
END:VEVENT
END:VCALENDAR
