BEGIN:VCALENDAR
PRODID:-//AT Content Types//AT Event//EN
VERSION:2.0
METHOD:PUBLISH
BEGIN:VEVENT
DTSTAMP:20260421T082752Z
CREATED:20260224T173250Z
UID:ATEvent-6a42925525388035335f43ce842d98e1
LAST-MODIFIED:20260224T174108Z
SUMMARY:„Hörde putzmunter“ -  Reinigungsarbeiten rund ums Café
DTSTART:20260324T143000Z
DTEND:20260324T143000Z
CLASS:PUBLIC
END:VEVENT
END:VCALENDAR
