BEGIN:VCALENDAR
PRODID:-//AT Content Types//AT Event//EN
VERSION:2.0
METHOD:PUBLISH
BEGIN:VEVENT
DTSTAMP:20260421T112539Z
CREATED:20251222T173012Z
UID:ATEvent-bf6044a95d158111d375987b0e6b62ee
LAST-MODIFIED:20251222T175307Z
SUMMARY:Einladung zur Geschichtswerkstatt
DTSTART:20260107T180000Z
DTEND:20260107T180000Z
DESCRIPTION:Heute\: Die Geschichte der Plastiktüte
LOCATION:Café Aufbruch\, Hintere Schildstr. 18\, Dortmund-Hörde
CATEGORIES:Geschichtswerkstatt
CLASS:PUBLIC
END:VEVENT
END:VCALENDAR
