BEGIN:VCALENDAR
PRODID:-//AT Content Types//AT Event//EN
VERSION:1.0
BEGIN:VEVENT
DTSTART:20251221T143000Z
DTEND:20251221T143000Z
DCREATED:20251128T143852Z
UID:ATEvent-57b736eb04bc32a301ca36ea48714866
SEQUENCE:0
LAST-MODIFIED:20251128T144538Z
SUMMARY:Winter-Sonnwend-Weihnachtsfeier
LOCATION:Café Aufbruch\, Hintere Schildstr. 18\, Dortmund-Hörde
PRIORITY:3
TRANSP:0
END:VEVENT
END:VCALENDAR
