BEGIN:VCALENDAR
PRODID:-//AT Content Types//AT Event//EN
VERSION:1.0
BEGIN:VEVENT
DTSTART:20251211T083000Z
DTEND:20251211T083000Z
DCREATED:20251128T143642Z
UID:ATEvent-0995deded40b46829477412a071e92d9
SEQUENCE:0
LAST-MODIFIED:20251128T144533Z
SUMMARY:Gemeinsam genießen und Energie tanken – Frühstücksangebot für Pflegebedürftige und ihre Angehörigen
LOCATION:Café Aufbruch\, Hintere Schildstr. 18\, Dortmund-Hörde
PRIORITY:3
TRANSP:0
END:VEVENT
END:VCALENDAR
