BEGIN:VCALENDAR
PRODID:-//AT Content Types//AT Event//EN
VERSION:1.0
BEGIN:VEVENT
DTSTART:20251203T180000Z
DTEND:20251203T180000Z
DCREATED:20251128T143400Z
UID:ATEvent-bf3750ad5607e6483e16f280fa1c3a45
SEQUENCE:0
LAST-MODIFIED:20251128T144535Z
SUMMARY:Einladung zur Geschichtswerkstatt
DESCRIPTION:Thema heute\:  Stefanie Augustin\: Geschichten aus 90 Dort
 munder Vororten
LOCATION:Café Aufbruch\, Hintere Schildstr. 18\, Dortmund-Hörde
PRIORITY:3
TRANSP:0
END:VEVENT
END:VCALENDAR
