BEGIN:VCALENDAR
PRODID:-//AT Content Types//AT Event//EN
VERSION:1.0
BEGIN:VEVENT
DTSTART:20251127T083000Z
DTEND:20251127T083000Z
DCREATED:20251025T155007Z
UID:ATEvent-1885f27195a5b768569349e259b03f43
SEQUENCE:0
LAST-MODIFIED:20251025T160223Z
SUMMARY:Frühstück international\: Gemeinsames Frühstück für Senior*innen in Hörde
LOCATION:Café Aufbruch\, Hintere Schildstr. 18\, Dortmund-Hörde
PRIORITY:3
TRANSP:0
END:VEVENT
END:VCALENDAR
