BEGIN:VCALENDAR
PRODID:-//AT Content Types//AT Event//EN
VERSION:2.0
METHOD:PUBLISH
BEGIN:VEVENT
DTSTAMP:20260419T142514Z
CREATED:20251025T154644Z
UID:ATEvent-afc58cfb387dd37eda5fd61722686d7f
LAST-MODIFIED:20251025T160219Z
SUMMARY:Erzählnachmittag
DTSTART:20251125T143000Z
DTEND:20251125T160000Z
LOCATION:Café Aufbruch\, Hintere Schildstr. 18\, Dortmund-Hörde
CLASS:PUBLIC
END:VEVENT
END:VCALENDAR
