BEGIN:VCALENDAR
PRODID:-//AT Content Types//AT Event//EN
VERSION:1.0
BEGIN:VEVENT
DTSTART:20251122T150000Z
DTEND:20251122T150000Z
DCREATED:20251025T154418Z
UID:ATEvent-575f345c5e7da4034a6b9eec8938ee86
SEQUENCE:0
LAST-MODIFIED:20251025T160215Z
SUMMARY:Vernissage\: *"Kunsterbunt"\:  Bilder - Symbole - Ebenen *
LOCATION:Café Aufbruch\, Hintere Schildstr. 18\, Dortmund-Hörde
PRIORITY:3
TRANSP:0
END:VEVENT
END:VCALENDAR
