BEGIN:VCALENDAR
PRODID:-//AT Content Types//AT Event//EN
VERSION:1.0
BEGIN:VEVENT
DTSTART:20251116T150000Z
DTEND:20251116T150000Z
DCREATED:20250921T131551Z
UID:ATEvent-090dddad96d78eb00103456c49920ae1
SEQUENCE:0
LAST-MODIFIED:20251025T160211Z
SUMMARY:Finissage unserer Ausstellung "Landschaft-Die schweigende Freundin"
DESCRIPTION:Werke von Elisabeth Lehmköster
LOCATION:Ihre künstlerische Tätigkeit ist bestimmt vom Interesse an dem Verhältnis von Natur und Kultur. Sie malt Landschaften in vielfältigen Darstellungs- und Ausdrucksformen. Finissage\: Sonntag\, 16. 11. um 16 Uhr
PRIORITY:3
TRANSP:0
END:VEVENT
END:VCALENDAR
