BEGIN:VCALENDAR
PRODID:-//AT Content Types//AT Event//EN
VERSION:1.0
BEGIN:VEVENT
DTSTART:20251113T083000Z
DTEND:20251113T083000Z
DCREATED:20251025T155503Z
UID:ATEvent-aa118ef3b0ad049a6410db96c4282f17
SEQUENCE:0
LAST-MODIFIED:20251025T160231Z
SUMMARY:Gemeinsam genießen und Energie tanken – Frühstücksangebot für  Pflegebedürftige und ihre Angehörigen
LOCATION:Café Aufbruch\, Hintere Schildstr. 18\, Dortmund-Hörde
PRIORITY:3
TRANSP:0
END:VEVENT
END:VCALENDAR
